BEGIN:VCALENDAR
VERSION:2.0
PRODID:-//Cakeaway Cooking Studio - ECPv4.5.13//NONSGML v1.0//EN
CALSCALE:GREGORIAN
METHOD:PUBLISH
X-WR-CALNAME:Cakeaway Cooking Studio
X-ORIGINAL-URL:https://cakeaway.com.hk
X-WR-CALDESC:Events for Cakeaway Cooking Studio
BEGIN:VEVENT
DTSTART;TZID=Asia/Hong_Kong:20191207T100000
DTEND;TZID=Asia/Hong_Kong:20191207T123000
DTSTAMP:20260422T221046
CREATED:20191119T033411Z
LAST-MODIFIED:20191119T034621Z
UID:10751-1575712800-1575721800@cakeaway.com.hk
SUMMARY:四色小熊杏仁曲奇工作坊 (私人包班) Dec 7
DESCRIPTION:
URL:https://cakeaway.com.hk/event/%e5%9b%9b%e8%89%b2%e5%b0%8f%e7%86%8a%e6%9d%8f%e4%bb%81%e6%9b%b2%e5%a5%87%e5%b7%a5%e4%bd%9c%e5%9d%8a-%e5%8c%85%e7%8f%ad-dec-7/
ATTACH;FMTTYPE=image/jpeg:https://cakeaway.com.hk/wp-content/uploads/2016/10/Bear-Cookies-01.jpg
END:VEVENT
END:VCALENDAR