BEGIN:VCALENDAR
VERSION:2.0
PRODID:-//Cakeaway Cooking Studio - ECPv4.5.13//NONSGML v1.0//EN
CALSCALE:GREGORIAN
METHOD:PUBLISH
X-WR-CALNAME:Cakeaway Cooking Studio
X-ORIGINAL-URL:https://cakeaway.com.hk
X-WR-CALDESC:Events for Cakeaway Cooking Studio
BEGIN:VEVENT
DTSTART;TZID=Asia/Hong_Kong:20180418T190000
DTEND;TZID=Asia/Hong_Kong:20180418T223000
DTSTAMP:20260423T064105
CREATED:20180404T024350Z
LAST-MODIFIED:20180404T024350Z
UID:7757-1524078000-1524090600@cakeaway.com.hk
SUMMARY:夢幻水晶蛋糕工作坊
DESCRIPTION:
URL:https://cakeaway.com.hk/event/%e5%a4%a2%e5%b9%bb%e6%b0%b4%e6%99%b6%e8%9b%8b%e7%b3%95%e5%b7%a5%e4%bd%9c%e5%9d%8a-8/
ATTACH;FMTTYPE=image/jpeg:https://cakeaway.com.hk/wp-content/uploads/2017/11/威化紙花課程-01.jpg
END:VEVENT
END:VCALENDAR