BEGIN:VCALENDAR
VERSION:2.0
PRODID:-//Cakeaway Cooking Studio - ECPv4.5.13//NONSGML v1.0//EN
CALSCALE:GREGORIAN
METHOD:PUBLISH
X-WR-CALNAME:Cakeaway Cooking Studio
X-ORIGINAL-URL:https://cakeaway.com.hk
X-WR-CALDESC:Events for Cakeaway Cooking Studio
BEGIN:VEVENT
DTSTART;TZID=Asia/Hong_Kong:20190629T163000
DTEND;TZID=Asia/Hong_Kong:20190629T193000
DTSTAMP:20260421T174937
CREATED:20190603T100241Z
LAST-MODIFIED:20190603T100241Z
UID:10077-1561825800-1561836600@cakeaway.com.hk
SUMMARY:夢幻獨角獸蛋糕工作坊 (私人包場）Tutor: Solo
DESCRIPTION:
URL:https://cakeaway.com.hk/event/%e5%a4%a2%e5%b9%bb%e7%8d%a8%e8%a7%92%e7%8d%b8%e8%9b%8b%e7%b3%95%e5%b7%a5%e4%bd%9c%e5%9d%8a-%e7%a7%81%e4%ba%ba%e5%8c%85%e5%a0%b4%ef%bc%89tutor-solo/
ATTACH;FMTTYPE=image/jpeg:https://cakeaway.com.hk/wp-content/uploads/2017/09/wensiteunicorn-01.jpg
END:VEVENT
END:VCALENDAR