BEGIN:VCALENDAR
VERSION:2.0
PRODID:-//Cakeaway Cooking Studio - ECPv4.5.13//NONSGML v1.0//EN
CALSCALE:GREGORIAN
METHOD:PUBLISH
X-WR-CALNAME:Cakeaway Cooking Studio
X-ORIGINAL-URL:https://cakeaway.com.hk
X-WR-CALDESC:Events for Cakeaway Cooking Studio
BEGIN:VEVENT
DTSTART;TZID=Asia/Hong_Kong:20161113T140000
DTEND;TZID=Asia/Hong_Kong:20161113T163000
DTSTAMP:20260420T083947
CREATED:20161021T103311Z
LAST-MODIFIED:20161103T145037Z
UID:3711-1479045600-1479054600@cakeaway.com.hk
SUMMARY:妖怪手錶忌廉蛋糕工作坊(親子首選)
DESCRIPTION:
URL:https://cakeaway.com.hk/event/%e5%a6%96%e6%80%aa%e6%89%8b%e9%8c%b6%e5%bf%8c%e5%bb%89%e8%9b%8b%e7%b3%95%e5%b7%a5%e4%bd%9c%e5%9d%8a%e8%a6%aa%e5%ad%90%e9%a6%96%e9%81%b8/
ATTACH;FMTTYPE=image/jpeg:https://cakeaway.com.hk/wp-content/uploads/2016/10/CAT-CAKE-01.jpg
END:VEVENT
END:VCALENDAR