BEGIN:VCALENDAR
VERSION:2.0
PRODID:-//Cakeaway Cooking Studio - ECPv4.5.13//NONSGML v1.0//EN
CALSCALE:GREGORIAN
METHOD:PUBLISH
X-WR-CALNAME:Cakeaway Cooking Studio
X-ORIGINAL-URL:https://cakeaway.com.hk
X-WR-CALDESC:Events for Cakeaway Cooking Studio
BEGIN:VEVENT
DTSTART;TZID=Asia/Hong_Kong:20191208T100000
DTEND;TZID=Asia/Hong_Kong:20191208T140000
DTSTAMP:20260422T234244
CREATED:20191119T103128Z
LAST-MODIFIED:20191119T103128Z
UID:10761-1575799200-1575813600@cakeaway.com.hk
SUMMARY:威化紙花水晶球蛋糕-聖誕特別版 Dec8
DESCRIPTION:
URL:https://cakeaway.com.hk/event/%e5%a8%81%e5%8c%96%e7%b4%99%e8%8a%b1%e6%b0%b4%e6%99%b6%e7%90%83%e8%9b%8b%e7%b3%95-%e8%81%96%e8%aa%95%e7%89%b9%e5%88%a5%e7%89%88-dec8/
ATTACH;FMTTYPE=image/jpeg:https://cakeaway.com.hk/wp-content/uploads/2019/11/wafflowerxmascaketiff.jpg
END:VEVENT
END:VCALENDAR