BEGIN:VCALENDAR
VERSION:2.0
PRODID:-//Cakeaway Cooking Studio - ECPv4.5.13//NONSGML v1.0//EN
CALSCALE:GREGORIAN
METHOD:PUBLISH
X-WR-CALNAME:Cakeaway Cooking Studio
X-ORIGINAL-URL:https://cakeaway.com.hk
X-WR-CALDESC:Events for Cakeaway Cooking Studio
BEGIN:VEVENT
DTSTART;TZID=Asia/Hong_Kong:20180409T190000
DTEND;TZID=Asia/Hong_Kong:20180409T230000
DTSTAMP:20260425T194755
CREATED:20180331T043919Z
LAST-MODIFIED:20180331T043919Z
UID:7713-1523300400-1523314800@cakeaway.com.hk
SUMMARY:安彥老師料理－四季菓子初體驗
DESCRIPTION:
URL:https://cakeaway.com.hk/event/%e5%ae%89%e5%bd%a5%e8%80%81%e5%b8%ab%e6%96%99%e7%90%86%ef%bc%8d%e5%9b%9b%e5%ad%a3%e8%8f%93%e5%ad%90%e5%88%9d%e9%ab%94%e9%a9%97-4/
ATTACH;FMTTYPE=image/jpeg:https://cakeaway.com.hk/wp-content/uploads/2018/03/Japan-1-01.jpg
END:VEVENT
END:VCALENDAR