BEGIN:VCALENDAR
VERSION:2.0
PRODID:-//Cakeaway Cooking Studio - ECPv4.5.13//NONSGML v1.0//EN
CALSCALE:GREGORIAN
METHOD:PUBLISH
X-WR-CALNAME:Cakeaway Cooking Studio
X-ORIGINAL-URL:https://cakeaway.com.hk
X-WR-CALDESC:Events for Cakeaway Cooking Studio
BEGIN:VEVENT
DTSTART;TZID=Asia/Hong_Kong:20180413T190000
DTEND;TZID=Asia/Hong_Kong:20180413T223000
DTSTAMP:20260425T135024
CREATED:20180404T053610Z
LAST-MODIFIED:20180404T053610Z
UID:7764-1523646000-1523658600@cakeaway.com.hk
SUMMARY:安彥老師料理－旅行青蛙＆朋友仔和菓子
DESCRIPTION:
URL:https://cakeaway.com.hk/event/%e5%ae%89%e5%bd%a5%e8%80%81%e5%b8%ab%e6%96%99%e7%90%86%ef%bc%8d%e6%97%85%e8%a1%8c%e9%9d%92%e8%9b%99%ef%bc%86%e6%9c%8b%e5%8f%8b%e4%bb%94%e5%92%8c%e8%8f%93%e5%ad%90-4/
ATTACH;FMTTYPE=image/jpeg:https://cakeaway.com.hk/wp-content/uploads/2018/03/Frog-01.jpg
END:VEVENT
END:VCALENDAR