BEGIN:VCALENDAR
VERSION:2.0
PRODID:-//Cakeaway Cooking Studio - ECPv4.5.13//NONSGML v1.0//EN
CALSCALE:GREGORIAN
METHOD:PUBLISH
X-WR-CALNAME:Cakeaway Cooking Studio
X-ORIGINAL-URL:https://cakeaway.com.hk
X-WR-CALDESC:Events for Cakeaway Cooking Studio
BEGIN:VEVENT
DTSTART;TZID=Asia/Hong_Kong:20200127T080000
DTEND;TZID=Asia/Hong_Kong:20200127T170000
DTSTAMP:20260422T135741
CREATED:20191222T020620Z
LAST-MODIFIED:20191226T160830Z
UID:10926-1580112000-1580144400@cakeaway.com.hk
SUMMARY:年初三假期
DESCRIPTION:
URL:https://cakeaway.com.hk/event/%e5%b9%b4%e5%88%9d%e4%b8%89%e5%81%87%e6%9c%9f/
ATTACH;FMTTYPE=image/jpeg:https://cakeaway.com.hk/wp-content/uploads/2019/01/CNY-banner-01.jpg
END:VEVENT
END:VCALENDAR