BEGIN:VCALENDAR
VERSION:2.0
PRODID:-//Cakeaway Cooking Studio - ECPv4.5.13//NONSGML v1.0//EN
CALSCALE:GREGORIAN
METHOD:PUBLISH
X-WR-CALNAME:Cakeaway Cooking Studio
X-ORIGINAL-URL:https://cakeaway.com.hk
X-WR-CALDESC:Events for Cakeaway Cooking Studio
BEGIN:VEVENT
DTSTART;VALUE=DATE:20200126
DTEND;VALUE=DATE:20200126
DTSTAMP:20260422T153545
CREATED:20191222T020531Z
LAST-MODIFIED:20191226T160852Z
UID:10924-1579996800-1580083199@cakeaway.com.hk
SUMMARY:年初二假期
DESCRIPTION:
URL:https://cakeaway.com.hk/event/%e5%b9%b4%e5%88%9d%e4%ba%8c%e5%81%87%e6%9c%9f/
ATTACH;FMTTYPE=image/jpeg:https://cakeaway.com.hk/wp-content/uploads/2019/01/CNY-banner-01.jpg
END:VEVENT
END:VCALENDAR