BEGIN:VCALENDAR
VERSION:2.0
PRODID:-//Cakeaway Cooking Studio - ECPv4.5.13//NONSGML v1.0//EN
CALSCALE:GREGORIAN
METHOD:PUBLISH
X-WR-CALNAME:Cakeaway Cooking Studio
X-ORIGINAL-URL:https://cakeaway.com.hk
X-WR-CALDESC:Events for Cakeaway Cooking Studio
BEGIN:VEVENT
DTSTART;VALUE=DATE:20200128
DTEND;VALUE=DATE:20200128
DTSTAMP:20260422T121607
CREATED:20191222T020716Z
LAST-MODIFIED:20191226T160811Z
UID:10928-1580169600-1580255999@cakeaway.com.hk
SUMMARY:年初四假期
DESCRIPTION:
URL:https://cakeaway.com.hk/event/%e5%b9%b4%e5%88%9d%e5%9b%9b%e5%81%87%e6%9c%9f/
ATTACH;FMTTYPE=image/jpeg:https://cakeaway.com.hk/wp-content/uploads/2019/01/CNY-banner-01.jpg
END:VEVENT
END:VCALENDAR