BEGIN:VCALENDAR
VERSION:2.0
PRODID:-//Cakeaway Cooking Studio - ECPv4.5.13//NONSGML v1.0//EN
CALSCALE:GREGORIAN
METHOD:PUBLISH
X-WR-CALNAME:Cakeaway Cooking Studio
X-ORIGINAL-URL:https://cakeaway.com.hk
X-WR-CALDESC:Events for Cakeaway Cooking Studio
BEGIN:VEVENT
DTSTART;TZID=Asia/Hong_Kong:20180402T140000
DTEND;TZID=Asia/Hong_Kong:20180402T163000
DTSTAMP:20260426T034710
CREATED:20180301T073947Z
LAST-MODIFIED:20180301T073947Z
UID:7592-1522677600-1522686600@cakeaway.com.hk
SUMMARY:復活節可愛Cupcake工作坊 (可免費攜帶1名小童)
DESCRIPTION:
URL:https://cakeaway.com.hk/event/%e5%be%a9%e6%b4%bb%e7%af%80%e5%8f%af%e6%84%9bcupcake%e5%b7%a5%e4%bd%9c%e5%9d%8a-%e5%8f%af%e5%85%8d%e8%b2%bb%e6%94%9c%e5%b8%b61%e5%90%8d%e5%b0%8f%e7%ab%a5/
ATTACH;FMTTYPE=image/jpeg:https://cakeaway.com.hk/wp-content/uploads/2017/03/easter-cupcake-01.jpg
END:VEVENT
END:VCALENDAR