BEGIN:VCALENDAR
VERSION:2.0
PRODID:-//Cakeaway Cooking Studio - ECPv4.5.13//NONSGML v1.0//EN
CALSCALE:GREGORIAN
METHOD:PUBLISH
X-WR-CALNAME:Cakeaway Cooking Studio
X-ORIGINAL-URL:https://cakeaway.com.hk
X-WR-CALDESC:Events for Cakeaway Cooking Studio
BEGIN:VEVENT
DTSTART;TZID=Asia/Hong_Kong:20180425T190000
DTEND;TZID=Asia/Hong_Kong:20180425T220000
DTSTAMP:20260422T131346
CREATED:20180402T073605Z
LAST-MODIFIED:20180402T081759Z
UID:7725-1524682800-1524693600@cakeaway.com.hk
SUMMARY:玫瑰花棒棒蛋糕工作坊
DESCRIPTION:
URL:https://cakeaway.com.hk/event/%e7%8e%ab%e7%91%b0%e8%8a%b1%e6%a3%92%e6%a3%92%e8%9b%8b%e7%b3%95%e5%b7%a5%e4%bd%9c%e5%9d%8a-4/
ATTACH;FMTTYPE=image/jpeg:https://cakeaway.com.hk/wp-content/uploads/2018/02/Tiff-Cake-Pop-02.jpg
END:VEVENT
END:VCALENDAR