BEGIN:VCALENDAR
VERSION:2.0
PRODID:-//Cakeaway Cooking Studio - ECPv4.5.13//NONSGML v1.0//EN
CALSCALE:GREGORIAN
METHOD:PUBLISH
X-WR-CALNAME:Cakeaway Cooking Studio
X-ORIGINAL-URL:https://cakeaway.com.hk
X-WR-CALDESC:Events for Cakeaway Cooking Studio
BEGIN:VEVENT
DTSTART;TZID=Asia/Hong_Kong:20180426T190000
DTEND;TZID=Asia/Hong_Kong:20180426T220000
DTSTAMP:20260422T101343
CREATED:20180405T041529Z
LAST-MODIFIED:20180405T041529Z
UID:7813-1524769200-1524780000@cakeaway.com.hk
SUMMARY:立體果凍蛋糕工作坊 (菊花 & 牡丹)
DESCRIPTION:
URL:https://cakeaway.com.hk/event/%e7%ab%8b%e9%ab%94%e6%9e%9c%e5%87%8d%e8%9b%8b%e7%b3%95%e5%b7%a5%e4%bd%9c%e5%9d%8a-%e8%8f%8a%e8%8a%b1-%e7%89%a1%e4%b8%b9/
ATTACH;FMTTYPE=image/jpeg:https://cakeaway.com.hk/wp-content/uploads/2018/04/Jelly-Flower-C-01.jpg
END:VEVENT
END:VCALENDAR