BEGIN:VCALENDAR
VERSION:2.0
PRODID:-//Cakeaway Cooking Studio - ECPv4.5.13//NONSGML v1.0//EN
CALSCALE:GREGORIAN
METHOD:PUBLISH
X-WR-CALNAME:Cakeaway Cooking Studio
X-ORIGINAL-URL:https://cakeaway.com.hk
X-WR-CALDESC:Events for Cakeaway Cooking Studio
BEGIN:VEVENT
DTSTART;TZID=Asia/Hong_Kong:20190529T160000
DTEND;TZID=Asia/Hong_Kong:20190529T180000
DTSTAMP:20260422T001931
CREATED:20190523T234403Z
LAST-MODIFIED:20190523T234403Z
UID:10059-1559145600-1559152800@cakeaway.com.hk
SUMMARY:端午節蛋黃咸肉粽＆豆沙鹼水粽工作坊 (Outing Class to Office)
DESCRIPTION:
URL:https://cakeaway.com.hk/event/%e7%ab%af%e5%8d%88%e7%af%80%e8%9b%8b%e9%bb%83%e5%92%b8%e8%82%89%e7%b2%bd%ef%bc%86%e8%b1%86%e6%b2%99%e9%b9%bc%e6%b0%b4%e7%b2%bd%e5%b7%a5%e4%bd%9c%e5%9d%8a-outing-class-to-office/
ATTACH;FMTTYPE=image/jpeg:https://cakeaway.com.hk/wp-content/uploads/2017/04/Chinese-dumplings-01.jpg
END:VEVENT
END:VCALENDAR