BEGIN:VCALENDAR
VERSION:2.0
PRODID:-//Cakeaway Cooking Studio - ECPv4.5.13//NONSGML v1.0//EN
CALSCALE:GREGORIAN
METHOD:PUBLISH
X-WR-CALNAME:Cakeaway Cooking Studio
X-ORIGINAL-URL:https://cakeaway.com.hk
X-WR-CALDESC:Events for Cakeaway Cooking Studio
BEGIN:VEVENT
DTSTART;TZID=Asia/Hong_Kong:20191214T140000
DTEND;TZID=Asia/Hong_Kong:20191214T170000
DTSTAMP:20260423T084056
CREATED:20191111T231322Z
LAST-MODIFIED:20191111T231322Z
UID:10720-1576332000-1576342800@cakeaway.com.hk
SUMMARY:聖誕搖搖玻璃曲奇糖果盒 (可免費攜帶1名小童) Dec14
DESCRIPTION:
URL:https://cakeaway.com.hk/event/%e8%81%96%e8%aa%95%e6%90%96%e6%90%96%e7%8e%bb%e7%92%83%e6%9b%b2%e5%a5%87%e7%b3%96%e6%9e%9c%e7%9b%92-%e5%8f%af%e5%85%8d%e8%b2%bb%e6%94%9c%e5%b8%b61%e5%90%8d%e5%b0%8f%e7%ab%a5-dec14/
ATTACH;FMTTYPE=image/jpeg:https://cakeaway.com.hk/wp-content/uploads/2018/12/Xmas-Glass-Cookie-01.jpg
END:VEVENT
END:VCALENDAR