BEGIN:VCALENDAR
VERSION:2.0
PRODID:-//Cakeaway Cooking Studio - ECPv4.5.13//NONSGML v1.0//EN
CALSCALE:GREGORIAN
METHOD:PUBLISH
X-WR-CALNAME:Cakeaway Cooking Studio
X-ORIGINAL-URL:https://cakeaway.com.hk
X-WR-CALDESC:Events for Cakeaway Cooking Studio
BEGIN:VEVENT
DTSTART;TZID=Asia/Hong_Kong:20191216T183000
DTEND;TZID=Asia/Hong_Kong:20191216T213000
DTSTAMP:20260424T104000
CREATED:20191209T192217Z
LAST-MODIFIED:20191209T192309Z
UID:10901-1576521000-1576531800@cakeaway.com.hk
SUMMARY:聖誕搖搖玻璃曲奇糖果盒工作坊 (私人包班)
DESCRIPTION:
URL:https://cakeaway.com.hk/event/%e8%81%96%e8%aa%95%e6%90%96%e6%90%96%e7%8e%bb%e7%92%83%e6%9b%b2%e5%a5%87%e7%b3%96%e6%9e%9c%e7%9b%92/
ATTACH;FMTTYPE=image/jpeg:https://cakeaway.com.hk/wp-content/uploads/2018/12/Xmas-Glass-Cookie-01.jpg
END:VEVENT
END:VCALENDAR