BEGIN:VCALENDAR
VERSION:2.0
PRODID:-//Cakeaway Cooking Studio - ECPv4.5.13//NONSGML v1.0//EN
CALSCALE:GREGORIAN
METHOD:PUBLISH
X-WR-CALNAME:Cakeaway Cooking Studio
X-ORIGINAL-URL:https://cakeaway.com.hk
X-WR-CALDESC:Events for Cakeaway Cooking Studio
BEGIN:VEVENT
DTSTART;TZID=Asia/Hong_Kong:20191212T190000
DTEND;TZID=Asia/Hong_Kong:20191212T220000
DTSTAMP:20260423T024509
CREATED:20191129T113041Z
LAST-MODIFIED:20191129T113041Z
UID:10819-1576177200-1576188000@cakeaway.com.hk
SUMMARY:聖誕樹頭蛋糕工作坊 (可免費攜帶1名小童) Dec12
DESCRIPTION:
URL:https://cakeaway.com.hk/event/%e8%81%96%e8%aa%95%e6%a8%b9%e9%a0%ad%e8%9b%8b%e7%b3%95%e5%b7%a5%e4%bd%9c%e5%9d%8a-%e5%8f%af%e5%85%8d%e8%b2%bb%e6%94%9c%e5%b8%b61%e5%90%8d%e5%b0%8f%e7%ab%a5-dec12/
ATTACH;FMTTYPE=image/jpeg:https://cakeaway.com.hk/wp-content/uploads/2016/11/xmas-wood-cake-01.jpg
END:VEVENT
END:VCALENDAR