BEGIN:VCALENDAR
VERSION:2.0
PRODID:-//Cakeaway Cooking Studio - ECPv4.5.13//NONSGML v1.0//EN
CALSCALE:GREGORIAN
METHOD:PUBLISH
X-WR-CALNAME:Cakeaway Cooking Studio
X-ORIGINAL-URL:https://cakeaway.com.hk
X-WR-CALDESC:Events for Cakeaway Cooking Studio
BEGIN:VEVENT
DTSTART;TZID=Asia/Hong_Kong:20191217T140000
DTEND;TZID=Asia/Hong_Kong:20191217T163000
DTSTAMP:20260424T090605
CREATED:20191118T082901Z
LAST-MODIFIED:20191129T110324Z
UID:10739-1576591200-1576600200@cakeaway.com.hk
SUMMARY:聖誕派對高級栗子卷蛋工作坊 Dec17 (私人包班）
DESCRIPTION:
URL:https://cakeaway.com.hk/event/%e8%81%96%e8%aa%95%e6%b4%be%e5%b0%8d%e9%ab%98%e7%b4%9a%e6%a0%97%e5%ad%90%e5%8d%b7%e8%9b%8b%e5%b7%a5%e4%bd%9c%e5%9d%8a-dec17/
ATTACH;FMTTYPE=image/jpeg:https://cakeaway.com.hk/wp-content/uploads/2019/11/xmaschestnutcakeroll.jpg
END:VEVENT
END:VCALENDAR