BEGIN:VCALENDAR
VERSION:2.0
PRODID:-//Cakeaway Cooking Studio - ECPv4.5.13//NONSGML v1.0//EN
CALSCALE:GREGORIAN
METHOD:PUBLISH
X-WR-CALNAME:Cakeaway Cooking Studio
X-ORIGINAL-URL:https://cakeaway.com.hk
X-WR-CALDESC:Events for Cakeaway Cooking Studio
BEGIN:VEVENT
DTSTART;TZID=Asia/Hong_Kong:20191213T140000
DTEND;TZID=Asia/Hong_Kong:20191213T173000
DTSTAMP:20260423T041431
CREATED:20191112T080524Z
LAST-MODIFIED:20191112T080533Z
UID:10725-1576245600-1576258200@cakeaway.com.hk
SUMMARY:聖誕薑餅屋工作坊 (Standard Chartered Bank包班)
DESCRIPTION:
URL:https://cakeaway.com.hk/event/%e8%81%96%e8%aa%95%e8%96%91%e9%a4%85%e5%b1%8b%e5%b7%a5%e4%bd%9c%e5%9d%8a-standard-chartered-bank-%e5%8c%85%e7%8f%ad/
ATTACH;FMTTYPE=image/jpeg:https://cakeaway.com.hk/wp-content/uploads/2016/11/Gingerbreadhouse-01.jpg
END:VEVENT
END:VCALENDAR