BEGIN:VCALENDAR
VERSION:2.0
PRODID:-//Cakeaway Cooking Studio - ECPv4.5.13//NONSGML v1.0//EN
CALSCALE:GREGORIAN
METHOD:PUBLISH
X-WR-CALNAME:Cakeaway Cooking Studio
X-ORIGINAL-URL:https://cakeaway.com.hk
X-WR-CALDESC:Events for Cakeaway Cooking Studio
BEGIN:VEVENT
DTSTART;TZID=Asia/Hong_Kong:20191217T190000
DTEND;TZID=Asia/Hong_Kong:20191217T213000
DTSTAMP:20260424T073844
CREATED:20191129T105830Z
LAST-MODIFIED:20191129T105830Z
UID:10810-1576609200-1576618200@cakeaway.com.hk
SUMMARY:脆脆聖誕樹杏仁撻工作坊 (可免費攜帶1名小童) Dec17
DESCRIPTION:
URL:https://cakeaway.com.hk/event/%e8%84%86%e8%84%86%e8%81%96%e8%aa%95%e6%a8%b9%e6%9d%8f%e4%bb%81%e6%92%bb%e5%b7%a5%e4%bd%9c%e5%9d%8a-%e5%8f%af%e5%85%8d%e8%b2%bb%e6%94%9c%e5%b8%b61%e5%90%8d%e5%b0%8f%e7%ab%a5-dec17/
ATTACH;FMTTYPE=image/jpeg:https://cakeaway.com.hk/wp-content/uploads/2019/11/xmastreealmondtart.jpg
END:VEVENT
END:VCALENDAR