BEGIN:VCALENDAR
VERSION:2.0
PRODID:-//Cakeaway Cooking Studio - ECPv4.5.13//NONSGML v1.0//EN
CALSCALE:GREGORIAN
METHOD:PUBLISH
X-WR-CALNAME:Cakeaway Cooking Studio
X-ORIGINAL-URL:https://cakeaway.com.hk
X-WR-CALDESC:Events for Cakeaway Cooking Studio
BEGIN:VEVENT
DTSTART;TZID=Asia/Hong_Kong:20200112T133000
DTEND;TZID=Asia/Hong_Kong:20200112T163000
DTSTAMP:20260423T053939
CREATED:20191226T154755Z
LAST-MODIFIED:20200102T051301Z
UID:10938-1578835800-1578846600@cakeaway.com.hk
SUMMARY:芋頭糕+桂花糕步步高陞工作坊 Jan12
DESCRIPTION:
URL:https://cakeaway.com.hk/event/%e8%8a%8b%e9%a0%ad%e7%b3%95%e6%a1%82%e8%8a%b1%e7%b3%95%e6%ad%a5%e6%ad%a5%e9%ab%98%e9%99%9e%e5%b7%a5%e4%bd%9c%e5%9d%8a-jan12/
ATTACH;FMTTYPE=image/jpeg:https://cakeaway.com.hk/wp-content/uploads/2019/12/cnyclass.jpg
END:VEVENT
END:VCALENDAR