BEGIN:VCALENDAR
VERSION:2.0
PRODID:-//Cakeaway Cooking Studio - ECPv4.5.13//NONSGML v1.0//EN
CALSCALE:GREGORIAN
METHOD:PUBLISH
X-WR-CALNAME:Cakeaway Cooking Studio
X-ORIGINAL-URL:https://cakeaway.com.hk
X-WR-CALDESC:Events for Cakeaway Cooking Studio
BEGIN:VEVENT
DTSTART;TZID=Asia/Hong_Kong:20200111T140000
DTEND;TZID=Asia/Hong_Kong:20200111T170000
DTSTAMP:20260423T071344
CREATED:20200106T173942Z
LAST-MODIFIED:20200106T173942Z
UID:10961-1578751200-1578762000@cakeaway.com.hk
SUMMARY:蘿蔔糕+桂花糕步步高陞工作坊 (私人包班) Tutor: Miu姐
DESCRIPTION:
URL:https://cakeaway.com.hk/event/%e8%98%bf%e8%94%94%e7%b3%95%e6%a1%82%e8%8a%b1%e7%b3%95%e6%ad%a5%e6%ad%a5%e9%ab%98%e9%99%9e%e5%b7%a5%e4%bd%9c%e5%9d%8a-%e7%a7%81%e4%ba%ba%e5%8c%85%e7%8f%ad-tutor-miu%e5%a7%90/
ATTACH;FMTTYPE=image/jpeg:https://cakeaway.com.hk/wp-content/uploads/2016/12/cnygogo-01.jpg
END:VEVENT
END:VCALENDAR