BEGIN:VCALENDAR
VERSION:2.0
PRODID:-//Cakeaway Cooking Studio - ECPv4.5.13//NONSGML v1.0//EN
CALSCALE:GREGORIAN
METHOD:PUBLISH
X-WR-CALNAME:Cakeaway Cooking Studio
X-ORIGINAL-URL:https://cakeaway.com.hk
X-WR-CALDESC:Events for Cakeaway Cooking Studio
BEGIN:VEVENT
DTSTART;TZID=Asia/Hong_Kong:20200112T133000
DTEND;TZID=Asia/Hong_Kong:20200112T160000
DTSTAMP:20260423T040947
CREATED:20191226T155428Z
LAST-MODIFIED:20200102T051152Z
UID:10941-1578835800-1578844800@cakeaway.com.hk
SUMMARY:角落生物芝麻湯圓工作坊 (可免費攜帶1名小童) Jan12
DESCRIPTION:
URL:https://cakeaway.com.hk/event/%e8%a7%92%e8%90%bd%e7%94%9f%e7%89%a9%e8%8a%9d%e9%ba%bb%e6%b9%af%e5%9c%93%e5%b7%a5%e4%bd%9c%e5%9d%8a-%e5%8f%af%e5%85%8d%e8%b2%bb%e6%94%9c%e5%b8%b61%e5%90%8d%e5%b0%8f%e7%ab%a5-jan12/
ATTACH;FMTTYPE=image/jpeg:https://cakeaway.com.hk/wp-content/uploads/2019/11/sumikko-dumplings-01.jpg
END:VEVENT
END:VCALENDAR