BEGIN:VCALENDAR
VERSION:2.0
PRODID:-//Cakeaway Cooking Studio - ECPv4.5.13//NONSGML v1.0//EN
CALSCALE:GREGORIAN
METHOD:PUBLISH
X-WR-CALNAME:Cakeaway Cooking Studio
X-ORIGINAL-URL:https://cakeaway.com.hk
X-WR-CALDESC:Events for Cakeaway Cooking Studio
BEGIN:VEVENT
DTSTART;TZID=Asia/Hong_Kong:20200118T140000
DTEND;TZID=Asia/Hong_Kong:20200118T173000
DTSTAMP:20260422T233621
CREATED:20200103T180940Z
LAST-MODIFIED:20200112T035439Z
UID:10958-1579356000-1579368600@cakeaway.com.hk
SUMMARY:角落生物芝麻湯圓 Private Birthday Party - Instructor: Solo
DESCRIPTION:
URL:https://cakeaway.com.hk/event/%e8%a7%92%e8%90%bd%e7%94%9f%e7%89%a9%e8%8a%9d%e9%ba%bb%e6%b9%af%e5%9c%93-private-birthday-party-tutor-solo/
ATTACH;FMTTYPE=image/jpeg:https://cakeaway.com.hk/wp-content/uploads/2019/11/sumikko-dumplings-01.jpg
END:VEVENT
END:VCALENDAR