BEGIN:VCALENDAR
VERSION:2.0
PRODID:-//Cakeaway Cooking Studio - ECPv4.5.13//NONSGML v1.0//EN
CALSCALE:GREGORIAN
METHOD:PUBLISH
X-WR-CALNAME:Cakeaway Cooking Studio
X-ORIGINAL-URL:https://cakeaway.com.hk
X-WR-CALDESC:Events for Cakeaway Cooking Studio
BEGIN:VEVENT
DTSTART;TZID=Asia/Hong_Kong:20190908T110000
DTEND;TZID=Asia/Hong_Kong:20190908T133000
DTSTAMP:20260420T083904
CREATED:20190829T130321Z
LAST-MODIFIED:20190829T130321Z
UID:10390-1567940400-1567949400@cakeaway.com.hk
SUMMARY:迷你經典奶黃月餅工作坊 (DHL Private Party)
DESCRIPTION:
URL:https://cakeaway.com.hk/event/%e8%bf%b7%e4%bd%a0%e7%b6%93%e5%85%b8%e5%a5%b6%e9%bb%83%e6%9c%88%e9%a4%85%e5%b7%a5%e4%bd%9c%e5%9d%8a-dhl-private-party/
ATTACH;FMTTYPE=image/jpeg:https://cakeaway.com.hk/wp-content/uploads/2017/08/Custard-Mooncake-01-01.jpg
END:VEVENT
END:VCALENDAR