BEGIN:VCALENDAR
VERSION:2.0
PRODID:-//Cakeaway Cooking Studio - ECPv4.5.13//NONSGML v1.0//EN
CALSCALE:GREGORIAN
METHOD:PUBLISH
X-WR-CALNAME:Cakeaway Cooking Studio
X-ORIGINAL-URL:https://cakeaway.com.hk
X-WR-CALDESC:Events for Cakeaway Cooking Studio
BEGIN:VEVENT
DTSTART;TZID=Asia/Hong_Kong:20190601T143000
DTEND;TZID=Asia/Hong_Kong:20190601T170000
DTSTAMP:20260421T223456
CREATED:20190521T031622Z
LAST-MODIFIED:20190521T031622Z
UID:10051-1559399400-1559408400@cakeaway.com.hk
SUMMARY:Ben Sir工作坊－黑森林蛋糕 (香港寶安燕羅同鄉會包班)
DESCRIPTION:
URL:https://cakeaway.com.hk/event/ben-sir%e5%b7%a5%e4%bd%9c%e5%9d%8a%ef%bc%8d%e9%bb%91%e6%a3%ae%e6%9e%97%e8%9b%8b%e7%b3%95-%e9%a6%99%e6%b8%af%e5%af%b6%e5%ae%89%e7%87%95%e7%be%85%e5%90%8c%e9%84%89%e6%9c%83%e5%8c%85%e7%8f%ad/
ATTACH;FMTTYPE=image/jpeg:https://cakeaway.com.hk/wp-content/uploads/2017/07/Black-Forest-01.jpg
END:VEVENT
END:VCALENDAR