BEGIN:VCALENDAR
VERSION:2.0
PRODID:-//Cakeaway Cooking Studio - ECPv4.5.13//NONSGML v1.0//EN
CALSCALE:GREGORIAN
METHOD:PUBLISH
X-WR-CALNAME:Cakeaway Cooking Studio
X-ORIGINAL-URL:https://cakeaway.com.hk
X-WR-CALDESC:Events for Cakeaway Cooking Studio
BEGIN:VEVENT
DTSTART;TZID=Asia/Hong_Kong:20191226T110000
DTEND;TZID=Asia/Hong_Kong:20191228T190000
DTSTAMP:20260423T101213
CREATED:20191202T055735Z
LAST-MODIFIED:20191202T130839Z
UID:10825-1577358000-1577559600@cakeaway.com.hk
SUMMARY:Cakeaway Xmas Holidays
DESCRIPTION:
URL:https://cakeaway.com.hk/event/cakeaway-xmas-holidays/
ATTACH;FMTTYPE=image/jpeg:https://cakeaway.com.hk/wp-content/uploads/2017/11/Xmas-01.jpg
END:VEVENT
END:VCALENDAR