BEGIN:VCALENDAR
VERSION:2.0
PRODID:-//Cakeaway Cooking Studio - ECPv4.5.13//NONSGML v1.0//EN
CALSCALE:GREGORIAN
METHOD:PUBLISH
X-WR-CALNAME:Cakeaway Cooking Studio
X-ORIGINAL-URL:https://cakeaway.com.hk
X-WR-CALDESC:Events for Cakeaway Cooking Studio
BEGIN:VEVENT
DTSTART;TZID=Asia/Hong_Kong:20180414T130000
DTEND;TZID=Asia/Hong_Kong:20180414T160000
DTSTAMP:20260425T120915
CREATED:20180404T144326Z
LAST-MODIFIED:20180404T144326Z
UID:7790-1523710800-1523721600@cakeaway.com.hk
SUMMARY:Peppa Pig超可愛曲奇工作坊 (可免費攜帶1名小童)
DESCRIPTION:
URL:https://cakeaway.com.hk/event/peppa-pig%e8%b6%85%e5%8f%af%e6%84%9b%e6%9b%b2%e5%a5%87%e5%b7%a5%e4%bd%9c%e5%9d%8a-%e5%8f%af%e5%85%8d%e8%b2%bb%e6%94%9c%e5%b8%b61%e5%90%8d%e5%b0%8f%e7%ab%a5-2/
ATTACH;FMTTYPE=image/jpeg:https://cakeaway.com.hk/wp-content/uploads/2017/03/peppac-01.jpg
END:VEVENT
END:VCALENDAR