BEGIN:VCALENDAR
VERSION:2.0
PRODID:-//Cakeaway Cooking Studio - ECPv4.5.13//NONSGML v1.0//EN
CALSCALE:GREGORIAN
METHOD:PUBLISH
X-WR-CALNAME:Cakeaway Cooking Studio
X-ORIGINAL-URL:https://cakeaway.com.hk
X-WR-CALDESC:Events for Cakeaway Cooking Studio
BEGIN:VEVENT
DTSTART;TZID=Asia/Hong_Kong:20190702T140000
DTEND;TZID=Asia/Hong_Kong:20190702T163000
DTSTAMP:20260421T132614
CREATED:20190616T081225Z
LAST-MODIFIED:20190616T081225Z
UID:10086-1562076000-1562085000@cakeaway.com.hk
SUMMARY:Peppa Pig超可愛曲奇工作坊 (聖羅撒學校家長教師會活動)
DESCRIPTION:
URL:https://cakeaway.com.hk/event/peppa-pig%e8%b6%85%e5%8f%af%e6%84%9b%e6%9b%b2%e5%a5%87%e5%b7%a5%e4%bd%9c%e5%9d%8a-%e8%81%96%e7%be%85%e6%92%92%e5%ad%b8%e6%a0%a1%e5%ae%b6%e9%95%b7%e6%95%99%e5%b8%ab%e6%9c%83%e6%b4%bb%e5%8b%95/
ATTACH;FMTTYPE=image/jpeg:https://cakeaway.com.hk/wp-content/uploads/2017/03/peppac-01.jpg
END:VEVENT
END:VCALENDAR